BEGIN:VCALENDAR
VERSION:2.0
PRODID:-//The Summit at Rivery Park - ECPv6.15.20//NONSGML v1.0//EN
CALSCALE:GREGORIAN
METHOD:PUBLISH
X-ORIGINAL-URL:https://thesummitatriverypark.com
X-WR-CALDESC:Events for The Summit at Rivery Park
REFRESH-INTERVAL;VALUE=DURATION:PT1H
X-Robots-Tag:noindex
X-PUBLISHED-TTL:PT1H
BEGIN:VTIMEZONE
TZID:America/New_York
BEGIN:DAYLIGHT
TZOFFSETFROM:-0500
TZOFFSETTO:-0400
TZNAME:EDT
DTSTART:20250309T070000
END:DAYLIGHT
BEGIN:STANDARD
TZOFFSETFROM:-0400
TZOFFSETTO:-0500
TZNAME:EST
DTSTART:20251102T060000
END:STANDARD
BEGIN:DAYLIGHT
TZOFFSETFROM:-0500
TZOFFSETTO:-0400
TZNAME:EDT
DTSTART:20260308T070000
END:DAYLIGHT
BEGIN:STANDARD
TZOFFSETFROM:-0400
TZOFFSETTO:-0500
TZNAME:EST
DTSTART:20261101T060000
END:STANDARD
BEGIN:DAYLIGHT
TZOFFSETFROM:-0500
TZOFFSETTO:-0400
TZNAME:EDT
DTSTART:20270314T070000
END:DAYLIGHT
BEGIN:STANDARD
TZOFFSETFROM:-0400
TZOFFSETTO:-0500
TZNAME:EST
DTSTART:20271107T060000
END:STANDARD
END:VTIMEZONE
BEGIN:VEVENT
DTSTART;TZID=America/New_York:20260206T173000
DTEND;TZID=America/New_York:20260206T203000
DTSTAMP:20260421T055557
CREATED:20260130T181340Z
LAST-MODIFIED:20260130T181340Z
UID:6139-1770399000-1770409800@thesummitatriverypark.com
SUMMARY:Music in the Yard: 'Whiskey & Wine'
DESCRIPTION:
URL:https://thesummitatriverypark.com/event/music-in-the-yard-whiskey-wine-5/
LOCATION:The Summit at Rivery Park\, 1500 Rivery Blvd.\, Suite 2200\, Georgetown\, 78628\, United States
END:VEVENT
END:VCALENDAR