BEGIN:VCALENDAR
VERSION:2.0
PRODID:-//The Summit at Rivery Park - ECPv6.15.20//NONSGML v1.0//EN
CALSCALE:GREGORIAN
METHOD:PUBLISH
X-ORIGINAL-URL:https://thesummitatriverypark.com
X-WR-CALDESC:Events for The Summit at Rivery Park
REFRESH-INTERVAL;VALUE=DURATION:PT1H
X-Robots-Tag:noindex
X-PUBLISHED-TTL:PT1H
BEGIN:VTIMEZONE
TZID:America/New_York
BEGIN:DAYLIGHT
TZOFFSETFROM:-0500
TZOFFSETTO:-0400
TZNAME:EDT
DTSTART:20240310T070000
END:DAYLIGHT
BEGIN:STANDARD
TZOFFSETFROM:-0400
TZOFFSETTO:-0500
TZNAME:EST
DTSTART:20241103T060000
END:STANDARD
BEGIN:DAYLIGHT
TZOFFSETFROM:-0500
TZOFFSETTO:-0400
TZNAME:EDT
DTSTART:20250309T070000
END:DAYLIGHT
BEGIN:STANDARD
TZOFFSETFROM:-0400
TZOFFSETTO:-0500
TZNAME:EST
DTSTART:20251102T060000
END:STANDARD
BEGIN:DAYLIGHT
TZOFFSETFROM:-0500
TZOFFSETTO:-0400
TZNAME:EDT
DTSTART:20260308T070000
END:DAYLIGHT
BEGIN:STANDARD
TZOFFSETFROM:-0400
TZOFFSETTO:-0500
TZNAME:EST
DTSTART:20261101T060000
END:STANDARD
END:VTIMEZONE
BEGIN:VEVENT
DTSTART;TZID=America/New_York:20250613T173000
DTEND;TZID=America/New_York:20250613T203000
DTSTAMP:20260421T112018
CREATED:20250611T163005Z
LAST-MODIFIED:20250611T190747Z
UID:6047-1749835800-1749846600@thesummitatriverypark.com
SUMMARY:Music in the Yard: Jeska
DESCRIPTION:
URL:https://thesummitatriverypark.com/event/music-in-the-yard-whiskey-wine-3/
LOCATION:The Summit at Rivery Park\, 1500 Rivery Blvd.\, Suite 2200\, Georgetown\, 78628\, United States
ATTACH;FMTTYPE=image/jpeg:https://thesummitatriverypark.com/wp-content/uploads/2025/06/Jeska.jpg
END:VEVENT
BEGIN:VEVENT
DTSTART;TZID=America/New_York:20250614T173000
DTEND;TZID=America/New_York:20250614T203000
DTSTAMP:20260421T112018
CREATED:20250611T163136Z
LAST-MODIFIED:20250611T165549Z
UID:6048-1749922200-1749933000@thesummitatriverypark.com
SUMMARY:Music in the Yard: Robert Jericho
DESCRIPTION:
URL:https://thesummitatriverypark.com/event/music-in-the-yard-robert-jericho/
LOCATION:The Summit at Rivery Park\, 1500 Rivery Blvd.\, Suite 2200\, Georgetown\, 78628\, United States
ATTACH;FMTTYPE=image/jpeg:https://thesummitatriverypark.com/wp-content/uploads/2025/06/jericho.jpg
END:VEVENT
BEGIN:VEVENT
DTSTART;TZID=America/New_York:20250615T130000
DTEND;TZID=America/New_York:20250615T160000
DTSTAMP:20260421T112018
CREATED:20250611T165358Z
LAST-MODIFIED:20250611T165358Z
UID:6056-1749992400-1750003200@thesummitatriverypark.com
SUMMARY:Music in the Yard: Meg Groves
DESCRIPTION:Father's Day Special Feature!
URL:https://thesummitatriverypark.com/event/music-in-the-yard-meg-groves-2/
LOCATION:The Summit at Rivery Park\, 1500 Rivery Blvd.\, Suite 2200\, Georgetown\, 78628\, United States
ATTACH;FMTTYPE=image/jpeg:https://thesummitatriverypark.com/wp-content/uploads/2025/06/MegGroves.jpg
END:VEVENT
BEGIN:VEVENT
DTSTART;TZID=America/New_York:20250620T173000
DTEND;TZID=America/New_York:20250620T203000
DTSTAMP:20260421T112018
CREATED:20250611T163308Z
LAST-MODIFIED:20250611T163308Z
UID:6049-1750440600-1750451400@thesummitatriverypark.com
SUMMARY:Music in the Yard: Kyle Mathis
DESCRIPTION:
URL:https://thesummitatriverypark.com/event/music-in-the-yard-kyle-mathis-2/
LOCATION:The Summit at Rivery Park\, 1500 Rivery Blvd.\, Suite 2200\, Georgetown\, 78628\, United States
END:VEVENT
BEGIN:VEVENT
DTSTART;TZID=America/New_York:20250621T173000
DTEND;TZID=America/New_York:20250621T203000
DTSTAMP:20260421T112018
CREATED:20250611T163354Z
LAST-MODIFIED:20250611T163458Z
UID:6050-1750527000-1750537800@thesummitatriverypark.com
SUMMARY:Music in the Yard: Zach Carney
DESCRIPTION:
URL:https://thesummitatriverypark.com/event/music-in-the-yard-zach-carney/
LOCATION:The Summit at Rivery Park\, 1500 Rivery Blvd.\, Suite 2200\, Georgetown\, 78628\, United States
END:VEVENT
BEGIN:VEVENT
DTSTART;TZID=America/New_York:20250627T173000
DTEND;TZID=America/New_York:20250627T203000
DTSTAMP:20260421T112018
CREATED:20250611T163604Z
LAST-MODIFIED:20250611T163604Z
UID:6051-1751045400-1751056200@thesummitatriverypark.com
SUMMARY:Music in the Yard: Kate Wright
DESCRIPTION:
URL:https://thesummitatriverypark.com/event/music-in-the-yard-kate-wright/
LOCATION:The Summit at Rivery Park\, 1500 Rivery Blvd.\, Suite 2200\, Georgetown\, 78628\, United States
END:VEVENT
BEGIN:VEVENT
DTSTART;TZID=America/New_York:20250628T173000
DTEND;TZID=America/New_York:20250628T203000
DTSTAMP:20260421T112018
CREATED:20250611T164400Z
LAST-MODIFIED:20250611T164400Z
UID:6052-1751131800-1751142600@thesummitatriverypark.com
SUMMARY:Music in the Yard: Curt & Hannah
DESCRIPTION:
URL:https://thesummitatriverypark.com/event/music-in-the-yard-curt-hannah/
LOCATION:The Summit at Rivery Park\, 1500 Rivery Blvd.\, Suite 2200\, Georgetown\, 78628\, United States
END:VEVENT
END:VCALENDAR