BEGIN:VCALENDAR
VERSION:2.0
PRODID:-//The Summit at Rivery Park - ECPv6.15.20//NONSGML v1.0//EN
CALSCALE:GREGORIAN
METHOD:PUBLISH
X-ORIGINAL-URL:https://thesummitatriverypark.com
X-WR-CALDESC:Events for The Summit at Rivery Park
REFRESH-INTERVAL;VALUE=DURATION:PT1H
X-Robots-Tag:noindex
X-PUBLISHED-TTL:PT1H
BEGIN:VTIMEZONE
TZID:America/New_York
BEGIN:DAYLIGHT
TZOFFSETFROM:-0500
TZOFFSETTO:-0400
TZNAME:EDT
DTSTART:20240310T070000
END:DAYLIGHT
BEGIN:STANDARD
TZOFFSETFROM:-0400
TZOFFSETTO:-0500
TZNAME:EST
DTSTART:20241103T060000
END:STANDARD
BEGIN:DAYLIGHT
TZOFFSETFROM:-0500
TZOFFSETTO:-0400
TZNAME:EDT
DTSTART:20250309T070000
END:DAYLIGHT
BEGIN:STANDARD
TZOFFSETFROM:-0400
TZOFFSETTO:-0500
TZNAME:EST
DTSTART:20251102T060000
END:STANDARD
BEGIN:DAYLIGHT
TZOFFSETFROM:-0500
TZOFFSETTO:-0400
TZNAME:EDT
DTSTART:20260308T070000
END:DAYLIGHT
BEGIN:STANDARD
TZOFFSETFROM:-0400
TZOFFSETTO:-0500
TZNAME:EST
DTSTART:20261101T060000
END:STANDARD
END:VTIMEZONE
BEGIN:VEVENT
DTSTART;TZID=America/New_York:20251205T173000
DTEND;TZID=America/New_York:20251205T203000
DTSTAMP:20260425T203951
CREATED:20250611T211214Z
LAST-MODIFIED:20250611T211214Z
UID:6104-1764955800-1764966600@thesummitatriverypark.com
SUMMARY:Music in the Yard: Clint Manning
DESCRIPTION:
URL:https://thesummitatriverypark.com/event/music-in-the-yard-clint-manning-5/
LOCATION:The Summit at Rivery Park\, 1500 Rivery Blvd.\, Suite 2200\, Georgetown\, 78628\, United States
END:VEVENT
BEGIN:VEVENT
DTSTART;TZID=America/New_York:20251206T173000
DTEND;TZID=America/New_York:20251206T203000
DTSTAMP:20260425T203951
CREATED:20250611T212459Z
LAST-MODIFIED:20250611T212459Z
UID:6105-1765042200-1765053000@thesummitatriverypark.com
SUMMARY:Music in the Yard: Tom Breton
DESCRIPTION:
URL:https://thesummitatriverypark.com/event/music-in-the-yard-tom-breton/
LOCATION:The Summit at Rivery Park\, 1500 Rivery Blvd.\, Suite 2200\, Georgetown\, 78628\, United States
END:VEVENT
BEGIN:VEVENT
DTSTART;TZID=America/New_York:20251212T173000
DTEND;TZID=America/New_York:20251212T203000
DTSTAMP:20260425T203951
CREATED:20250611T212543Z
LAST-MODIFIED:20250611T212707Z
UID:6106-1765560600-1765571400@thesummitatriverypark.com
SUMMARY:Music in the Yard: Timeless
DESCRIPTION:
URL:https://thesummitatriverypark.com/event/music-in-the-yard-timeless/
LOCATION:The Summit at Rivery Park\, 1500 Rivery Blvd.\, Suite 2200\, Georgetown\, 78628\, United States
END:VEVENT
BEGIN:VEVENT
DTSTART;TZID=America/New_York:20251213T173000
DTEND;TZID=America/New_York:20251213T203000
DTSTAMP:20260425T203951
CREATED:20250611T212818Z
LAST-MODIFIED:20250611T212818Z
UID:6107-1765647000-1765657800@thesummitatriverypark.com
SUMMARY:Music in the Yard: Robert Jericho 
DESCRIPTION:
URL:https://thesummitatriverypark.com/event/music-in-the-yard-robert-jericho-7/
LOCATION:The Summit at Rivery Park\, 1500 Rivery Blvd.\, Suite 2200\, Georgetown\, 78628\, United States
END:VEVENT
BEGIN:VEVENT
DTSTART;TZID=America/New_York:20251219T173000
DTEND;TZID=America/New_York:20251219T203000
DTSTAMP:20260425T203951
CREATED:20250611T212912Z
LAST-MODIFIED:20250611T212912Z
UID:6108-1766165400-1766176200@thesummitatriverypark.com
SUMMARY:Music in the Yard: Artitst TBD
DESCRIPTION:
URL:https://thesummitatriverypark.com/event/music-in-the-yard-artitst-tbd/
LOCATION:The Summit at Rivery Park\, 1500 Rivery Blvd.\, Suite 2200\, Georgetown\, 78628\, United States
END:VEVENT
BEGIN:VEVENT
DTSTART;TZID=America/New_York:20251220T173000
DTEND;TZID=America/New_York:20251220T203000
DTSTAMP:20260425T203951
CREATED:20250611T213031Z
LAST-MODIFIED:20250611T213031Z
UID:6109-1766251800-1766262600@thesummitatriverypark.com
SUMMARY:Music in the Yard: Curt & Hannah
DESCRIPTION:
URL:https://thesummitatriverypark.com/event/music-in-the-yard-curt-hannah-6/
LOCATION:The Summit at Rivery Park\, 1500 Rivery Blvd.\, Suite 2200\, Georgetown\, 78628\, United States
END:VEVENT
BEGIN:VEVENT
DTSTART;TZID=America/New_York:20251226T173000
DTEND;TZID=America/New_York:20251226T203000
DTSTAMP:20260425T203951
CREATED:20250611T213112Z
LAST-MODIFIED:20250611T213112Z
UID:6110-1766770200-1766781000@thesummitatriverypark.com
SUMMARY:Music in the Yard: Artist TBD
DESCRIPTION:
URL:https://thesummitatriverypark.com/event/music-in-the-yard-artist-tbd-2/
LOCATION:The Summit at Rivery Park\, 1500 Rivery Blvd.\, Suite 2200\, Georgetown\, 78628\, United States
END:VEVENT
BEGIN:VEVENT
DTSTART;TZID=America/New_York:20251227T173000
DTEND;TZID=America/New_York:20251227T203000
DTSTAMP:20260425T203951
CREATED:20250611T213209Z
LAST-MODIFIED:20250611T213209Z
UID:6111-1766856600-1766867400@thesummitatriverypark.com
SUMMARY:Music in the Yard: Kyle Mathis
DESCRIPTION:
URL:https://thesummitatriverypark.com/event/music-in-the-yard-kyle-mathis-8/
LOCATION:The Summit at Rivery Park\, 1500 Rivery Blvd.\, Suite 2200\, Georgetown\, 78628\, United States
END:VEVENT
END:VCALENDAR